BEGIN:VCALENDAR
VERSION:2.0
PRODID:floktu.com
X-WR-TIMEZONE:Australia/Brisbane
X-PUBLISHED-TTL:P1W
BEGIN:VEVENT
UID:FloktuEvent32363@floktu.com
DTSTART;TZID=Australia/Brisbane:20240308T090000
SEQUENCE:0
TRANSP:OPAQUE
DTEND;TZID=Australia/Brisbane:20240510T120000
SUMMARY:Bowenville State School 2024 Mother's Day Thermomix Raffle
DESCRIPTION:Visit https://2024bowenvillessmothersdaythermomixraffle.floktu.
 com for more information.
DTSTAMP:20260423T140156Z
END:VEVENT
BEGIN:VTIMEZONE
TZID:Australia/Brisbane
X-LIC-LOCATION:Australia/Brisbane
END:VTIMEZONE
END:VCALENDAR