BEGIN:VCALENDAR
VERSION:2.0
PRODID:floktu.com
X-PUBLISHED-TTL:P1W
BEGIN:VEVENT
UID:FloktuEvent32363@floktu.com
DTSTART:20240307T230000Z
SEQUENCE:0
TRANSP:OPAQUE
DTEND:20240510T020000Z
SUMMARY:Bowenville State School 2024 Mother's Day Thermomix Raffle
DESCRIPTION:Visit https://2024bowenvillessmothersdaythermomixraffle.floktu.
 com for more information.
DTSTAMP:20260423T140048Z
END:VEVENT
END:VCALENDAR